BEGIN:VCALENDAR
VERSION:2.0
PRODID:icalendar-ruby
CALSCALE:GREGORIAN
BEGIN:VEVENT
DTSTAMP:20260422T173715Z
UID:42251cf8-9566-4ba4-ac6b-e054d0b37e58
DTSTART:20221028T090000Z
DTEND:20221029T000000Z
DESCRIPTION:Speaker: Professor Mohammed Hassan  (University of Arizona)\; 3
 pm London time
SUMMARY:28 October 2022\, Atto Fridays seminar series: Attomicroscopy: imag
 ing and controlling g electron motion in action\, online
URL;VALUE=URI:https://www.laserlab-europe.eu/events-1/conferences/conferenc
 e-calendar/28-october-2022-atto-fridays-seminar-series-attomicroscopy-imag
 ing-and-controlling-g-electron-motion-in-action-online
END:VEVENT
END:VCALENDAR
