BEGIN:VCALENDAR
VERSION:2.0
PRODID:icalendar-ruby
CALSCALE:GREGORIAN
BEGIN:VEVENT
DTSTAMP:20260421T225708Z
UID:f37665d0-64b0-44d2-bce8-5f4dc0cdb7e5
DTSTART:20220328T090000Z
DTEND:20220402T000000Z
SUMMARY:28 March - 1 April 2022\, International Conference on Synchrotron R
 adiation Instrumentation (SRI) online
URL;VALUE=URI:https://www.laserlab-europe.eu/events-1/conferences/conferenc
 e-calendar/28-march-1-april-2022-international-conference-on-synchrotron-r
 adiation-instrumentation-sri-online
END:VEVENT
END:VCALENDAR
