BEGIN:VCALENDAR
VERSION:2.0
PRODID:icalendar-ruby
CALSCALE:GREGORIAN
BEGIN:VEVENT
DTSTAMP:20260420T215728Z
UID:824aa905-7561-4f42-aea2-2ee5bf119632
DTSTART:20220328T090000Z
DTEND:20220402T000000Z
SUMMARY:28 March - 1 April 2022\, COST/ZCAM School on New Computational Met
 hods for Attosecond Molecular Processes\, Zaragoza\, Spain
URL;VALUE=URI:https://www.laserlab-europe.eu/events-1/conferences/conferenc
 e-calendar/28-march-1-april-2022-cost-zcam-school-on-new-computational-met
 hods-for-attosecond-molecular-processes-zaragoza-spain
END:VEVENT
END:VCALENDAR
