BEGIN:VCALENDAR
VERSION:2.0
PRODID:icalendar-ruby
CALSCALE:GREGORIAN
BEGIN:VEVENT
DTSTAMP:20260423T005350Z
UID:09962e34-a566-4665-9aff-2f42a9b6e209
DTSTART:20220628T090000Z
DTEND:20220704T000000Z
SUMMARY:28 June - 3 July 2022\, International Conference on the Physics of 
 2D Crystals (ICP2DC'6)\, Ekaterinburg\,Russia
URL;VALUE=URI:https://www.laserlab-europe.eu/events-1/conferences/conferenc
 e-calendar/28-june-3-july-2022-international-conference-on-the-physics-of-
 2d-crystals-icp2dc6-ekaterinburg
END:VEVENT
END:VCALENDAR
