BEGIN:VCALENDAR
VERSION:2.0
PRODID:icalendar-ruby
CALSCALE:GREGORIAN
BEGIN:VEVENT
DTSTAMP:20260422T173715Z
UID:ba7eeca6-2094-4ec0-a708-936beedfef78
DTSTART:20220628T090000Z
DTEND:20220702T000000Z
SUMMARY:28 June - 1 July 2022\, International Workshop on Resonant Elastic 
 X-ray Scattering (REXS 2022)\, Paris\, France
URL;VALUE=URI:https://www.laserlab-europe.eu/events-1/conferences/conferenc
 e-calendar/28-june-1-july-2022-international-workshop-on-resonant-elastic-
 x-ray-scattering-rexs-2022-paris-france
END:VEVENT
END:VCALENDAR
