BEGIN:VCALENDAR
VERSION:2.0
PRODID:icalendar-ruby
CALSCALE:GREGORIAN
BEGIN:VEVENT
DTSTAMP:20260421T152427Z
UID:59fcf62d-b61e-4449-84c1-ad7f5115f422
DTSTART:20240728T090000Z
DTEND:20240803T000000Z
SUMMARY:28 July - 2 August 2024\, International Conference on Raman Spectro
 scopy - ICORS\, Rome\, Italy
URL;VALUE=URI:https://www.laserlab-europe.eu/events-1/conferences/conferenc
 e-calendar/28-july-2-august-2024-international-conference-on-raman-spectro
 scopy-icors-rome-italy
END:VEVENT
END:VCALENDAR
