BEGIN:VCALENDAR
VERSION:2.0
PRODID:icalendar-ruby
CALSCALE:GREGORIAN
BEGIN:VEVENT
DTSTAMP:20260422T172119Z
UID:7a84c7a7-4d5d-42d6-9621-8ea7bd505e97
DTSTART:20240128T090000Z
DTEND:20240203T000000Z
SUMMARY:28 January - 2 February 2024\, XXIV SASP Symposium on Atomic\, Clus
 ter and Surface Physics 2024\, Andalo\, Italy
URL;VALUE=URI:https://www.laserlab-europe.eu/events/conferences/conference-
 calendar/28-january-2-february-2024-xxiv-sasp-symposium-on-atomic-cluster-
 and-surface-physics-2024-andalo-italy
END:VEVENT
END:VCALENDAR
