BEGIN:VCALENDAR
VERSION:2.0
PRODID:icalendar-ruby
CALSCALE:GREGORIAN
BEGIN:VEVENT
DTSTAMP:20260420T052547Z
UID:9982e3ce-101d-4620-94e3-24de2ccf3f12
DTSTART:20230128T090000Z
DTEND:20230203T000000Z
SUMMARY:28 January - 2 February 2023\, SPIE Photonics West\, San Francisco\
 , CA\, USA
URL;VALUE=URI:https://www.laserlab-europe.eu/events-1/conferences/conferenc
 e-calendar/28-january-2-february-2023-spie-photonics-west-san-francisco-ca
 -usa
END:VEVENT
END:VCALENDAR
