BEGIN:VCALENDAR
VERSION:2.0
PRODID:icalendar-ruby
CALSCALE:GREGORIAN
BEGIN:VEVENT
DTSTAMP:20260419T152255Z
UID:b54e253d-f796-427c-997f-2447e183a433
DTSTART:20240228T090000Z
DTEND:20240302T000000Z
SUMMARY:28 February - 1 March 2024\, AttoChem Workshop\, Tenerife\, Canary 
 Islands
URL;VALUE=URI:https://www.laserlab-europe.eu/events/conferences/conference-
 calendar/28-february-1-march-2024-attochem-workshop-tenerife-canary-island
 s
END:VEVENT
END:VCALENDAR
