BEGIN:VCALENDAR
VERSION:2.0
PRODID:icalendar-ruby
CALSCALE:GREGORIAN
BEGIN:VEVENT
DTSTAMP:20260421T013608Z
UID:fa2214e8-890a-473d-9b29-c3aa07619697
DTSTART:20230828T090000Z
DTEND:20230902T000000Z
SUMMARY:28 August - 1 September 2023\, New Generation in Strongly Correlate
 d Electron Systems (NGSCES) conference\, Lido di Fermo\, Italy
URL;VALUE=URI:https://www.laserlab-europe.eu/events-1/conferences/conferenc
 e-calendar/28-august-1-september-2023-new-generation-in-strongly-correlate
 d-electron-systems-ngsces-conference-lido-di-fermo-italy
END:VEVENT
END:VCALENDAR
