BEGIN:VCALENDAR
VERSION:2.0
PRODID:icalendar-ruby
CALSCALE:GREGORIAN
BEGIN:VEVENT
DTSTAMP:20260419T234611Z
UID:6d80791d-ac8e-48ba-863c-2b35b9359f14
DTSTART:20241028T090000Z
DTEND:20241101T000000Z
DESCRIPTION:Mini-workshop during the Journées de la matière condensée (J
 MC 2024)
SUMMARY:28-31 October 2024\, Mini-workshop on « Ultrafast dynamics in 2D a
 nd quantum materials» (2 DMS5)\, Marseille\, France
URL;VALUE=URI:https://www.laserlab-europe.eu/events/conferences/conference-
 calendar/28-31-october-2024-mini-workshop-on-ultrafast-dynamics-in-2d-and-
 quantum-materials-2-dms5-marseille-france
END:VEVENT
END:VCALENDAR
