BEGIN:VCALENDAR
VERSION:2.0
PRODID:icalendar-ruby
CALSCALE:GREGORIAN
BEGIN:VEVENT
DTSTAMP:20260420T203510Z
UID:cf2347d2-8a37-4860-ac67-1e9b03b5e6a6
DTSTART:20231027T090000Z
DTEND:20231028T000000Z
DESCRIPTION:Speaker: Dr Mary Matthews (Imperial College London). - 3 pm Lon
 don time.
SUMMARY:27 October 2023\, Atto Fridays: Attosecond processes in condensed p
 hase: back to basics\, online
URL;VALUE=URI:https://www.laserlab-europe.eu/events/conferences/conference-
 calendar/27-october-2023-atto-fridays-attosecond-processes-in-condensed-ph
 ase-back-to-basics-online
END:VEVENT
END:VCALENDAR
