BEGIN:VCALENDAR
VERSION:2.0
PRODID:icalendar-ruby
CALSCALE:GREGORIAN
BEGIN:VEVENT
DTSTAMP:20260422T174913Z
UID:cb25d0a9-4b97-4123-85ba-b8959b65a710
DTSTART:20221127T090000Z
DTEND:20221203T000000Z
SUMMARY:27 November - 2 December 2022\, Advances in the Fundamental Underst
 anding of Halide Perovskites\, at the Materials Research Society (MRS) Fal
 l Meeting\, Boston\, USA
URL;VALUE=URI:https://www.laserlab-europe.eu/events-1/conferences/conferenc
 e-calendar/27-november-2-december-2022-advances-in-the-fundamental-underst
 anding-of-halide-perovskites-at-the-materials-research-society-mrs-fall-me
 eting-boston-usa
END:VEVENT
END:VCALENDAR
