BEGIN:VCALENDAR
VERSION:2.0
PRODID:icalendar-ruby
CALSCALE:GREGORIAN
BEGIN:VEVENT
DTSTAMP:20260422T201331Z
UID:ee047757-c4f2-4ef6-affd-d1ef681751c4
DTSTART:20220327T090000Z
DTEND:20220402T000000Z
SUMMARY:27 March - 1 April 2022\, GRC on Photosensory Receptors and Signal 
 Transduction\, Ventura\, CA\, USA
URL;VALUE=URI:https://www.laserlab-europe.eu/events-1/conferences/conferenc
 e-calendar/27-march-1-april-2022-grc-on-photosensory-receptors-and-signal-
 transduction-ventura-ca-usa
END:VEVENT
END:VCALENDAR
