BEGIN:VCALENDAR
VERSION:2.0
PRODID:icalendar-ruby
CALSCALE:GREGORIAN
BEGIN:VEVENT
DTSTAMP:20260422T162423Z
UID:cffb805b-1511-4714-8883-2db4d745fb57
DTSTART:20220627T090000Z
DTEND:20220702T000000Z
SUMMARY:27 June - 1 July 2022\, European Conference on Atoms Molecules and 
 Photons (ECAMP14)\, Vilnius\, Lithuania
URL;VALUE=URI:https://www.laserlab-europe.eu/events-1/conferences/conferenc
 e-calendar/27-june-1-july-2022-european-conference-on-atoms-molecules-and-
 photons-ecamp14-vilnius-lithuania
END:VEVENT
END:VCALENDAR
