BEGIN:VCALENDAR
VERSION:2.0
PRODID:icalendar-ruby
CALSCALE:GREGORIAN
BEGIN:VEVENT
DTSTAMP:20260420T101150Z
UID:0542ffee-714a-4c68-9c3d-a2515abb2a48
DTSTART:20240127T090000Z
DTEND:20240202T000000Z
SUMMARY:27 January - 1 February 2024\, SPIE Photonics West\, San Francisco\
 , USA
URL;VALUE=URI:https://www.laserlab-europe.eu/events-1/conferences/conferenc
 e-calendar/27-jan-01-feb-2024-spie-photonics-west-san-francisco-usa
END:VEVENT
END:VCALENDAR
