BEGIN:VCALENDAR
VERSION:2.0
PRODID:icalendar-ruby
CALSCALE:GREGORIAN
BEGIN:VEVENT
DTSTAMP:20260422T022734Z
UID:ef61f7d8-f7e5-4461-9e86-2026b3d1f83d
DTSTART:20230227T090000Z
DTEND:20230303T000000Z
SUMMARY:27 February - 2 March 2023\, Fluctuations and Nonlinearities (FaN) 
 International Conference\, Kloster Irsee\, Germany
URL;VALUE=URI:https://www.laserlab-europe.eu/events-1/conferences/conferenc
 e-calendar/27-february-2-march-2023-fluctuations-and-nonlinearities-fan-in
 ternational-conference-kloster-irsee-germany
END:VEVENT
END:VCALENDAR
