BEGIN:VCALENDAR
VERSION:2.0
PRODID:icalendar-ruby
CALSCALE:GREGORIAN
BEGIN:VEVENT
DTSTAMP:20260421T180000Z
UID:37ed6ed4-7fa3-4d02-ae64-c7856d8ad6d6
DTSTART:20230827T090000Z
DTEND:20230902T000000Z
SUMMARY:27 August - 1 September 2023\, Summer School: Quantum Dynamics & Sp
 ectroscopy of Materials and Biosystems\, Les Houches\, France
URL;VALUE=URI:https://www.laserlab-europe.eu/events-1/conferences/conferenc
 e-calendar/27-august-1-september-2023-summer-school-quantum-dynamics-spect
 roscopy-of-materials-and-biosystems-les-houches-france
END:VEVENT
END:VCALENDAR
