BEGIN:VCALENDAR
VERSION:2.0
PRODID:icalendar-ruby
CALSCALE:GREGORIAN
BEGIN:VEVENT
DTSTAMP:20260422T134742Z
UID:f128fd49-be72-43d6-8671-1340cf6749f2
DTSTART:20240527T090000Z
DTEND:20240601T000000Z
SUMMARY:27-31 May 2024\, International School on Ultrafast X-rays and Attos
 econd Science\, Paris\, France
URL;VALUE=URI:https://www.laserlab-europe.eu/events/conferences/conference-
 calendar/27-31-may-2024-international-school-on-ultrafast-x-rays-and-attos
 econd-science-paris-france
END:VEVENT
END:VCALENDAR
