BEGIN:VCALENDAR
VERSION:2.0
PRODID:icalendar-ruby
CALSCALE:GREGORIAN
BEGIN:VEVENT
DTSTAMP:20260422T161159Z
UID:3a46db71-4317-4c4f-bee3-ef57a294964b
DTSTART:20230327T090000Z
DTEND:20230401T000000Z
SUMMARY:27-31 March 2023\, ATMOS 2023: Greenhouse Gasses and Pollutants\, M
 adrid\, Spain
URL;VALUE=URI:https://www.laserlab-europe.eu/events-1/conferences/conferenc
 e-calendar/27-31-march-2023-atmos-2023-greenhouse-gasses-and-pollutants-ma
 drid-spain
END:VEVENT
END:VCALENDAR
