BEGIN:VCALENDAR
VERSION:2.0
PRODID:icalendar-ruby
CALSCALE:GREGORIAN
BEGIN:VEVENT
DTSTAMP:20260422T231100Z
UID:a19b8477-2910-4cea-b83b-014e916784b4
DTSTART:20230827T090000Z
DTEND:20230901T000000Z
SUMMARY:27-31 August 2023\, European Society for Photobiology Congress\, Ly
 on\, France
URL;VALUE=URI:https://www.laserlab-europe.eu/events-1/conferences/conferenc
 e-calendar/27-31-august-2023-european-society-for-photobiology-congress-ly
 on-france
END:VEVENT
END:VCALENDAR
