BEGIN:VCALENDAR
VERSION:2.0
PRODID:icalendar-ruby
CALSCALE:GREGORIAN
BEGIN:VEVENT
DTSTAMP:20260420T021834Z
UID:ee86463a-1c76-4b1b-ae49-5f6e3de54f41
DTSTART:20241027T090000Z
DTEND:20241031T000000Z
SUMMARY:27-30 October 2024\, FAIR-DI (FAIR Data Infrastructure for Physics\
 , Chemistry\, ...) European Conference on Data Intelligence\, Karlsruhe\, 
 Germany
URL;VALUE=URI:https://www.laserlab-europe.eu/events/conferences/conference-
 calendar/27-30-october-2024-fair-di-fair-data-infrastructure-for-physics-c
 hemistry-european-conference-on-data-intelligence-karlsruhe-germany
END:VEVENT
END:VCALENDAR
