BEGIN:VCALENDAR
VERSION:2.0
PRODID:icalendar-ruby
CALSCALE:GREGORIAN
BEGIN:VEVENT
DTSTAMP:20260422T203842Z
UID:f73cf640-b0d8-4401-9203-5dd95d3b7faf
DTSTART:20220627T090000Z
DTEND:20220701T000000Z
SUMMARY:27-30 June 2022\, Conference on Attosecond and Free-Electron Laser 
 Science - Atto-FEL 2022\, London\, UK
URL;VALUE=URI:https://www.laserlab-europe.eu/events-1/conferences/conferenc
 e-calendar/27-30-june-2022-conference-on-attosecond-and-free-electron-lase
 r-science-atto-fel-2022-london-uk
END:VEVENT
END:VCALENDAR
