BEGIN:VCALENDAR
VERSION:2.0
PRODID:icalendar-ruby
CALSCALE:GREGORIAN
BEGIN:VEVENT
DTSTAMP:20260422T172035Z
UID:224795d9-f34b-4000-8dce-58abbb7dab4d
DTSTART:20241127T090000Z
DTEND:20241130T000000Z
SUMMARY:27-29 November 2024\, Public Awareness and Engagement with Research
  Infrastructures conference - PAERI\, Morges\, Switzerland
URL;VALUE=URI:https://www.laserlab-europe.eu/events/conferences/conference-
 calendar/27-29-november-2024-public-awareness-and-engagement-with-research
 -infrastructures-conference-paeri-morges-switzerland
END:VEVENT
END:VCALENDAR
