BEGIN:VCALENDAR
VERSION:2.0
PRODID:icalendar-ruby
CALSCALE:GREGORIAN
BEGIN:VEVENT
DTSTAMP:20260420T182418Z
UID:6677384c-a4a2-47a0-bf5d-291c2f9e5614
DTSTART:20241126T090000Z
DTEND:20241127T000000Z
SUMMARY:26 November 2025\, Morpho Workshop: "Advances in Laser Shock Techni
 ques and Carbon Fiber Recovery for Composite Materials”\, online
URL;VALUE=URI:https://www.laserlab-europe.eu/events/conferences/conference-
 calendar/26-november-2025-morpho-workshop-advances-in-laser-shock-techniqu
 es-and-carbon-fiber-recovery-for-composite-materials201d-online
END:VEVENT
END:VCALENDAR
