BEGIN:VCALENDAR
VERSION:2.0
PRODID:icalendar-ruby
CALSCALE:GREGORIAN
BEGIN:VEVENT
DTSTAMP:20260422T172019Z
UID:899c0e41-b2a6-44ff-a33c-e978da1ac18b
DTSTART:20240426T090000Z
DTEND:20240427T000000Z
DESCRIPTION:Speaker: Professor Attila Attila Czirjak\, ELI-ALPS/University 
 of Szeged\, Hungary
SUMMARY:26 April 2024\, Atto Fridays seminar: Quantum details of atomic str
 ong-field ionization and high-order harmonic radiation\, online
URL;VALUE=URI:https://www.laserlab-europe.eu/events/conferences/conference-
 calendar/26-april-2024-atto-fridays-seminar-quantum-details-of-atomic-stro
 ng-field-ionization-and-high-order-harmonic-radiation-online
END:VEVENT
END:VCALENDAR
