BEGIN:VCALENDAR
VERSION:2.0
PRODID:icalendar-ruby
CALSCALE:GREGORIAN
BEGIN:VEVENT
DTSTAMP:20260420T035834Z
UID:3be1eb8a-da20-42d4-9538-5e0ad9de8526
DTSTART:20230326T090000Z
DTEND:20230401T000000Z
SUMMARY:26-31 March 2023\, Ultrafast Optics - UFOXIII\, Bariloche\, Argenti
 na
URL;VALUE=URI:https://www.laserlab-europe.eu/events-1/conferences/conferenc
 e-calendar/26-31-march-2023-ultrafast-optics-ufoxiii-bariloche-argentina
END:VEVENT
END:VCALENDAR
