BEGIN:VCALENDAR
VERSION:2.0
PRODID:icalendar-ruby
CALSCALE:GREGORIAN
BEGIN:VEVENT
DTSTAMP:20260423T004627Z
UID:8f9a5fd1-9f2c-4f1c-8a2c-6f4348c181c1
DTSTART:20230326T090000Z
DTEND:20230401T000000Z
SUMMARY:26-31 March 2023\, Erice Attosecond School – The Frontiers of Att
 osecond and Ultrafast X-ray Science\, Erice\, Italy
URL;VALUE=URI:https://www.laserlab-europe.eu/events-1/conferences/conferenc
 e-calendar/26-31-march-2023-erice-attosecond-school-2013-the-frontiers-of-
 attosecond-and-ultrafast-x-ray-science-erice-italy
END:VEVENT
END:VCALENDAR
