BEGIN:VCALENDAR
VERSION:2.0
PRODID:icalendar-ruby
CALSCALE:GREGORIAN
BEGIN:VEVENT
DTSTAMP:20260422T062456Z
UID:a9092139-02d3-4e3a-8852-f19d609004fd
DTSTART:20230326T090000Z
DTEND:20230331T000000Z
LOCATION:100\, South Capitol Avenue
SUMMARY:26-30 March 2023\, Bridging the Gap: Using Gas-Phase and Cluster St
 udies to Model the Dynamics of Complex Systems\, ACS Meeting\, Indianapoli
 s\, IN\, USA
URL;VALUE=URI:https://www.laserlab-europe.eu/events-1/conferences/conferenc
 e-calendar/26-30-march-2023-bridging-the-gap-using-gas-phase-and-cluster-s
 tudies-to-model-the-dynamics-of-complex-systems-acs-meeting-indianapolis-i
 n-usa
END:VEVENT
END:VCALENDAR
