BEGIN:VCALENDAR
VERSION:2.0
PRODID:icalendar-ruby
CALSCALE:GREGORIAN
BEGIN:VEVENT
DTSTAMP:20260420T205450Z
UID:6b3d01c5-3695-4189-a950-6ba84b36ce8a
DTSTART:20230626T090000Z
DTEND:20230701T000000Z
SUMMARY:26-30 June 2023\, Joint Symposium Free Electron Lasers CLEO/Europe-
 EQEC\, Munich\, Germany
URL;VALUE=URI:https://www.laserlab-europe.eu/events-1/conferences/conferenc
 e-calendar/26-30-june-2023-joint-symposium-free-electron-lasers-cleo-europ
 e-eqec-munich-germany
END:VEVENT
END:VCALENDAR
