BEGIN:VCALENDAR
VERSION:2.0
PRODID:icalendar-ruby
CALSCALE:GREGORIAN
BEGIN:VEVENT
DTSTAMP:20260422T185441Z
UID:632dd6b5-63e1-40da-b4a5-a4f587ce101a
DTSTART:20230626T090000Z
DTEND:20230701T000000Z
SUMMARY:26-30 June 2023\, Conference on Lasers and Electro-Optics/Europe 
 – European Quantum Electronics Virtual Conferences (CLEO®/Europe-EQEC 2
 023)\, Munich\, Germany
URL;VALUE=URI:https://www.laserlab-europe.eu/events-1/conferences/conferenc
 e-calendar/26-30-june-2023-cleo-europe-eqec-munich-germany
END:VEVENT
END:VCALENDAR
