BEGIN:VCALENDAR
VERSION:2.0
PRODID:icalendar-ruby
CALSCALE:GREGORIAN
BEGIN:VEVENT
DTSTAMP:20260419T185518Z
UID:f9c6ad01-d176-4361-a058-c4dcc8bbe773
DTSTART:20240826T090000Z
DTEND:20240827T000000Z
DESCRIPTION:A COST/DAN summer school on the astrochemistry of star &amp\; p
 lanet formation
SUMMARY:26-30 August 2024\, NanoSpace Astrochemistry Training School\, Gron
 ingen\, The Netherlands
URL;VALUE=URI:https://www.laserlab-europe.eu/events/conferences/conference-
 calendar/26-30-august-2024-nanospace-astrochemistry-training-school-gronin
 gen-the-netherlands
END:VEVENT
END:VCALENDAR
