BEGIN:VCALENDAR
VERSION:2.0
PRODID:icalendar-ruby
CALSCALE:GREGORIAN
BEGIN:VEVENT
DTSTAMP:20260422T033514Z
UID:85369d59-3632-4b21-b992-2fd33f67574e
DTSTART:20240826T090000Z
DTEND:20240831T000000Z
SUMMARY:26-30 August 2024\, International Conference on Synchrotron Radiati
 on Instrumentation (SRI)\, Hamburg\, Germany
URL;VALUE=URI:https://www.laserlab-europe.eu/events/conferences/conference-
 calendar/26-30-august-2024-international-conference-on-synchrotron-radiati
 on-instrumentation-sri-hamburg-germany
END:VEVENT
END:VCALENDAR
