BEGIN:VCALENDAR
VERSION:2.0
PRODID:icalendar-ruby
CALSCALE:GREGORIAN
BEGIN:VEVENT
DTSTAMP:20260421T143208Z
UID:41eb3c50-5edb-4ee4-9f50-b8eb6a803505
DTSTART:20240826T090000Z
DTEND:20240831T000000Z
SUMMARY:26-30 August 2024\, 11th EPS-QEOD Europhoton Conference\, Vilnius\,
  Lithuania
URL;VALUE=URI:https://www.laserlab-europe.eu/events/conferences/conference-
 calendar/26-30-august-2024-11th-eps-qeod-europhoton-conference-vilnius-lit
 huania
END:VEVENT
END:VCALENDAR
