BEGIN:VCALENDAR
VERSION:2.0
PRODID:icalendar-ruby
CALSCALE:GREGORIAN
BEGIN:VEVENT
DTSTAMP:20260422T213427Z
UID:a347f0cf-3bc1-45d7-9489-d60759aa0b86
DTSTART:20220626T090000Z
DTEND:20220630T000000Z
SUMMARY:26-29 June 2022\, QUADMARTS (QUAntitative Detection of Molecular An
 d Radical Trace Species) International Research Network workshop\, Lille\,
  France
URL;VALUE=URI:https://www.laserlab-europe.eu/events-1/conferences/conferenc
 e-calendar/26-29-june-2022-quadmarts-quantitative-detection-of-molecular-a
 nd-radical-trace-species-international-research-network-workshop-lille-fra
 nce
END:VEVENT
END:VCALENDAR
