BEGIN:VCALENDAR
VERSION:2.0
PRODID:icalendar-ruby
CALSCALE:GREGORIAN
BEGIN:VEVENT
DTSTAMP:20260422T042542Z
UID:46412f94-7919-4c3f-af99-98eba015fded
DTSTART:20230426T090000Z
DTEND:20230429T000000Z
SUMMARY:26-28 April 2023\, EMMC 2023 International Workshop "Materials & Di
 gitalisation: the backbone of the Green Transition"\, Vienna\, Austria
URL;VALUE=URI:https://www.laserlab-europe.eu/events-1/conferences/conferenc
 e-calendar/26-28-april-2023-emmc-2023-international-workshop-materials-dig
 italisation-the-backbone-of-the-green-transition-vienna-austria
END:VEVENT
END:VCALENDAR
