BEGIN:VCALENDAR
VERSION:2.0
PRODID:icalendar-ruby
CALSCALE:GREGORIAN
BEGIN:VEVENT
DTSTAMP:20260422T193817Z
UID:02c6210c-4a84-48e0-aaa0-bf6dadd568f7
DTSTART:20240926T090000Z
DTEND:20240927T100000Z
SUMMARY:26-27 September 2024\, Facing Challenges on the Characterization of
  Subnanometric Metal and Metal Oxide Catalysts and Photocatalysts\, Madrid
 \, Spain
URL;VALUE=URI:https://www.laserlab-europe.eu/events/conferences/conference-
 calendar/26-27-september-2024-facing-challenges-on-the-characterization-of
 -subnanometric-metal-and-metal-oxide-catalysts-and-photocatalysts-madrid-s
 pain
END:VEVENT
END:VCALENDAR
