BEGIN:VCALENDAR
VERSION:2.0
PRODID:icalendar-ruby
CALSCALE:GREGORIAN
BEGIN:VEVENT
DTSTAMP:20260421T194409Z
UID:90041c2b-5aea-45b5-bb6a-9e025404f1ad
DTSTART:20231026T090000Z
DTEND:20231028T000000Z
SUMMARY:26-27 October 2023\, The van der Waals - London Discussions\, Stras
 bourg\, France
URL;VALUE=URI:https://www.laserlab-europe.eu/events-1/conferences/conferenc
 e-calendar/26-27-october-2023-the-van-der-waals-london-discussions-strasbo
 urg-france
END:VEVENT
END:VCALENDAR
