BEGIN:VCALENDAR
VERSION:2.0
PRODID:icalendar-ruby
CALSCALE:GREGORIAN
BEGIN:VEVENT
DTSTAMP:20260420T005041Z
UID:19984202-e9e6-4938-a7a3-d6a1ac7a2cb7
DTSTART:20230426T090000Z
DTEND:20230428T000000Z
SUMMARY:26-27 April 2023\, 4th Collaborative Network for X-ray Spectroscopy
  Conference - CONEXS\, Oxford\, UK
URL;VALUE=URI:https://www.laserlab-europe.eu/events-1/conferences/conferenc
 e-calendar/26-27-april-2023-4th-collaborative-network-for-x-ray-spectrosco
 py-conference-conexs-oxford-uk
END:VEVENT
END:VCALENDAR
