BEGIN:VCALENDAR
VERSION:2.0
PRODID:icalendar-ruby
CALSCALE:GREGORIAN
BEGIN:VEVENT
DTSTAMP:20260422T162423Z
UID:56055b30-9387-40c7-85ed-3fedb74060e1
DTSTART:20241025T090000Z
DTEND:20241026T000000Z
DESCRIPTION:Atto Fridays seminar series - Friday 25/10/2024 3pm London time
 \, online - Speaker: Prof. Andreas Becker (JILA\, University of Colorado B
 oulder\, USA)
SUMMARY:25 October 2024\, Atto Fridays seminar: Generation of elliptically 
 polarized high harmonics and attosecond pulses\, online
URL;VALUE=URI:https://www.laserlab-europe.eu/events/conferences/conference-
 calendar/25-october-2024-atto-fridays-seminar-generation-of-elliptically-p
 olarized-high-harmonics-and-attosecond-pulses-online
END:VEVENT
END:VCALENDAR
