BEGIN:VCALENDAR
VERSION:2.0
PRODID:icalendar-ruby
CALSCALE:GREGORIAN
BEGIN:VEVENT
DTSTAMP:20260422T180337Z
UID:5c5713ca-5a2c-4824-92da-9551f1e08963
DTSTART:20230725T090000Z
DTEND:20230802T000000Z
SUMMARY:25 July - 1 August 2023\, International Conference on Photonic\, El
 ectronic and Atomic Collisions\, Ottawa\, Ontario\, Canada
URL;VALUE=URI:https://www.laserlab-europe.eu/events-1/conferences/conferenc
 e-calendar/25-july-1-august-2023-international-conference-on-photonic-elec
 tronic-and-atomic-collisions-ottawa-ontario-canada
END:VEVENT
END:VCALENDAR
