BEGIN:VCALENDAR
VERSION:2.0
PRODID:icalendar-ruby
CALSCALE:GREGORIAN
BEGIN:VEVENT
DTSTAMP:20260423T004627Z
UID:c84553eb-32e4-4864-a2a9-b51898584664
DTSTART:20230325T090000Z
DTEND:20230401T000000Z
SUMMARY:25-31 March 2023\, International School "The Frontiers of Attosecon
 d and Ultrafast X-ray Science" Erice\, Sicily\, Italy
URL;VALUE=URI:https://www.laserlab-europe.eu/events-1/conferences/conferenc
 e-calendar/25-31-march-2023-international-school-the-frontiers-of-attoseco
 nd-and-ultrafast-x-ray-science-erice-sicily-italy
END:VEVENT
END:VCALENDAR
