BEGIN:VCALENDAR
VERSION:2.0
PRODID:icalendar-ruby
CALSCALE:GREGORIAN
BEGIN:VEVENT
DTSTAMP:20260420T094354Z
UID:9bf7db35-f1fd-4589-8a79-a56ab50c3bb6
DTSTART:20250125T090000Z
DTEND:20250131T000000Z
SUMMARY:25-30 January 2025\, SPIE Photonics West\, San Francisco\, Californ
 ia\, USA
URL;VALUE=URI:https://www.laserlab-europe.eu/events/conferences/conference-
 calendar/25-30-january-2025-spie-photonics-west-san-francisco-california-u
 sa
END:VEVENT
END:VCALENDAR
