BEGIN:VCALENDAR
VERSION:2.0
PRODID:icalendar-ruby
CALSCALE:GREGORIAN
BEGIN:VEVENT
DTSTAMP:20260421T185941Z
UID:3d04481b-b3db-4e19-a9df-d723cbfcf5b8
DTSTART:20240825T090000Z
DTEND:20240831T000000Z
SUMMARY:25-30 August 2024\, International Stereodynamics Meeting\, Cardiff\
 , UK
URL;VALUE=URI:https://www.laserlab-europe.eu/events/conferences/conference-
 calendar/25-30-august-2024-stereodynamics-meeting-cardiff-uk
END:VEVENT
END:VCALENDAR
