BEGIN:VCALENDAR
VERSION:2.0
PRODID:icalendar-ruby
CALSCALE:GREGORIAN
BEGIN:VEVENT
DTSTAMP:20260422T161208Z
UID:08fd00f1-fd40-4472-b43b-3e77a42a2d2c
DTSTART:20230925T090000Z
DTEND:20230930T000000Z
SUMMARY:25-29 September 2023\, International Conference on Inertial Fusion 
 Sciences and Applications\, Denver\, CO\, USA
URL;VALUE=URI:https://www.laserlab-europe.eu/events-1/conferences/conferenc
 e-calendar/25-29-september-2023-international-conference-on-inertial-fusio
 n-sciences-and-applications-denver-co-usa
END:VEVENT
END:VCALENDAR
