BEGIN:VCALENDAR
VERSION:2.0
PRODID:icalendar-ruby
CALSCALE:GREGORIAN
BEGIN:VEVENT
DTSTAMP:20260420T080831Z
UID:355e9697-2de8-4521-ac3d-635431ead1d0
DTSTART:20220925T090000Z
DTEND:20220929T000000Z
SUMMARY:25-28 September\, European Conference on Non-linear Optical Spectro
 scopy - ECONOS\, Kiruna\, Sweden
URL;VALUE=URI:https://www.laserlab-europe.eu/events-1/conferences/conferenc
 e-calendar/25-28-september-european-conference-on-non-linear-optical-spect
 roscopy-econos-kiruna-sweden
END:VEVENT
END:VCALENDAR
