BEGIN:VCALENDAR
VERSION:2.0
PRODID:icalendar-ruby
CALSCALE:GREGORIAN
BEGIN:VEVENT
DTSTAMP:20260422T172204Z
UID:011f12e5-db40-4f83-b7e2-90000d7630d4
DTSTART:20231025T090000Z
DTEND:20231028T000000Z
SUMMARY:25-27 October 2023\, Smart Materials and Surfaces - SMS 2023 Confer
 ence\, Albufeira/Algarve\, Portugal
URL;VALUE=URI:https://www.laserlab-europe.eu/events/conferences/conference-
 calendar/25-27-october-2023-smart-materials-and-surfaces-sms-2023-conferen
 ce-albufeira-algarve-portugal
END:VEVENT
END:VCALENDAR
