BEGIN:VCALENDAR
VERSION:2.0
PRODID:icalendar-ruby
CALSCALE:GREGORIAN
BEGIN:VEVENT
DTSTAMP:20260421T153634Z
UID:66f55efd-259a-4e05-ba09-1847e4bbdfe9
DTSTART:20240925T090000Z
DTEND:20240927T000000Z
SUMMARY:25 -26 September 2024\, Efficient Dispersion-Corrected Hybrid DFT f
 or Organic and Hybrid Organic-Inorganic Systems\, Online Webinar
URL;VALUE=URI:https://www.laserlab-europe.eu/events/conferences/conference-
 calendar/25-26-september-2024-efficient-dispersion-corrected-hybrid-dft-fo
 r-organic-and-hybrid-organic-inorganic-systems-online-webinar
END:VEVENT
END:VCALENDAR
