BEGIN:VCALENDAR
VERSION:2.0
PRODID:icalendar-ruby
CALSCALE:GREGORIAN
BEGIN:VEVENT
DTSTAMP:20260422T193546Z
UID:9087e213-9b74-4f05-adb2-1e4315c5b2f4
DTSTART:20231124T090000Z
DTEND:20231125T000000Z
DESCRIPTION:Speaker: Professor Alexis Chacon (POSTECH University\, South Ko
 rea) -- 3pm London time\, online
SUMMARY:24 November 2023\, Atto Fridays: Ultrafast spectroscopy of topologi
 cal material via high-order harmonic generation\, online
URL;VALUE=URI:https://www.laserlab-europe.eu/events/conferences/conference-
 calendar/24-november-2023-atto-fridays-ultrafast-spectroscopy-of-topologic
 al-material-via-high-order-harmonic-generation-online
END:VEVENT
END:VCALENDAR
