BEGIN:VCALENDAR
VERSION:2.0
PRODID:icalendar-ruby
CALSCALE:GREGORIAN
BEGIN:VEVENT
DTSTAMP:20260422T142629Z
UID:8a03c286-284c-41c4-a0ba-b66c7a6dc845
DTSTART:20240524T090000Z
DTEND:20240525T000000Z
DESCRIPTION:Atto Fridays seminar series - Friday 24/05/2024 3pm London time
 \, online -- Speaker: Professor Ignacio Franco (University of Rochester)
SUMMARY:24 May 2024\, Atto Fridays seminar: Light-Field Control of Real and
  Virtual Charge Carriers\, online
URL;VALUE=URI:https://www.laserlab-europe.eu/events/conferences/conference-
 calendar/24-may-2024-atto-fridays-seminar-light-field-control-of-real-and-
 virtual-charge-carriers-online
END:VEVENT
END:VCALENDAR
